BEGIN:VCALENDAR
VERSION:2.0
PRODID:-//ActiveBury//Events//EN
CALSCALE:GREGORIAN
BEGIN:VEVENT
UID:event-1808@activebury.com
DTSTAMP:20260425T152910Z
SUMMARY:Winter/Spring Storytime
DTSTART:20260421T103000
DTEND:20260421T113000
LOCATION:North County Branch Greensboro
DESCRIPTION:Join us for a half-hour of fun songs\, stories\, and fingerplays that encourage the development of early literacy skills.\nMore info: https://carolinecounty.librarycalendar.com/event/winter-storytime-2029\nActiveBury: https://www.activebury.com/events/1808
URL:https://www.activebury.com/events/1808
END:VEVENT
END:VCALENDAR
