BEGIN:VCALENDAR
VERSION:2.0
PRODID:-//ActiveBury//Events//EN
CALSCALE:GREGORIAN
BEGIN:VEVENT
UID:event-1807@activebury.com
DTSTAMP:20260425T133324Z
SUMMARY:Walk-in Crisis Intervention
DTSTART:20260420T100000
DTEND:20260420T120000
LOCATION:Central Branch Denton
DESCRIPTION:Apr 20 2026 Mon Walk-in Crisis Intervention 10:00am–12:00pm Apr 20 2026 Mon Walk-in Crisis Intervention 10:00am–12:00pm This is not a library sponsored event. Library Branch: Central Branch Denton Room: Small Study Room A Purpose of Meeting Caroline County Public Library is partnering with Affiliated Santé Group to provide seasonal walk-in support for crisis intervention on Mondays at out Denton location from 10 to 12pm.\nMore info: https://carolinecounty.librarycalendar.com/event/walk-crisis-intervention-1008\nActiveBury: https://www.activebury.com/events/1807
URL:https://www.activebury.com/events/1807
END:VEVENT
END:VCALENDAR
