BEGIN:VCALENDAR
VERSION:2.0
PRODID:-//ActiveBury//Events//EN
CALSCALE:GREGORIAN
BEGIN:VEVENT
UID:event-1806@activebury.com
DTSTAMP:20260425T133842Z
SUMMARY:The Art of Storytelling
DTSTART:20260418T120000
DTEND:20260418T133000
LOCATION:Central Branch Denton
DESCRIPTION:Join the Caroline County library and community to explore the art of storytelling on Saturday\, April 18 at 12:00 pm with Liz Newell as a foundational aspect of human connection and healing.\nMore info: https://carolinecounty.librarycalendar.com/event/art-storytelling-3488\nActiveBury: https://www.activebury.com/events/1806
URL:https://www.activebury.com/events/1806
END:VEVENT
END:VCALENDAR
