BEGIN:VCALENDAR
VERSION:2.0
PRODID:-//ActiveBury//Events//EN
CALSCALE:GREGORIAN
BEGIN:VEVENT
UID:event-1805@activebury.com
DTSTAMP:20260425T133426Z
SUMMARY:Customize a Tote Bag
DTSTART:20260416T173000
DTEND:20260416T193000
LOCATION:Central Branch Denton
DESCRIPTION:Interested in making a creation using a Cricut? Come to our Cricut program on April 16th in the Denton library's large meeting room from 5:30-7:30!\nMore info: https://carolinecounty.librarycalendar.com/event/customize-tote-bag-2742\nActiveBury: https://www.activebury.com/events/1805
URL:https://www.activebury.com/events/1805
END:VEVENT
END:VCALENDAR
