BEGIN:VCALENDAR
VERSION:2.0
PRODID:-//ActiveBury//Events//EN
CALSCALE:GREGORIAN
BEGIN:VEVENT
UID:event-1804@activebury.com
DTSTAMP:20260425T133446Z
SUMMARY:Winter/Spring Storytime
DTSTART:20260416T103000
DTEND:20260416T113000
LOCATION:Federalsburg Branch
DESCRIPTION:Join us for a half-hour of fun songs\, stories\, and fingerplays that encourage the development of early literacy skills.\nMore info: https://carolinecounty.librarycalendar.com/event/winterspring-storytime-2845\nActiveBury: https://www.activebury.com/events/1804
URL:https://www.activebury.com/events/1804
END:VEVENT
END:VCALENDAR
