BEGIN:VCALENDAR
VERSION:2.0
PRODID:-//ActiveBury//Events//EN
CALSCALE:GREGORIAN
BEGIN:VEVENT
UID:event-1803@activebury.com
DTSTAMP:20260425T133429Z
SUMMARY:Make a Tiny Book
DTSTART:20260415T173000
DTEND:20260415T193000
LOCATION:North County Branch Greensboro
DESCRIPTION:Come make a miniature book to use in a dollhouse or diorama or turn into earrings!\nMore info: https://carolinecounty.librarycalendar.com/event/make-tiny-book-2912\nActiveBury: https://www.activebury.com/events/1803
URL:https://www.activebury.com/events/1803
END:VEVENT
END:VCALENDAR
