BEGIN:VCALENDAR
VERSION:2.0
PRODID:-//ActiveBury//Events//EN
CALSCALE:GREGORIAN
BEGIN:VEVENT
UID:event-1802@activebury.com
DTSTAMP:20260425T133829Z
SUMMARY:Anime Club
DTSTART:20260415T160000
DTEND:20260415T173000
LOCATION:Central Branch Denton
DESCRIPTION:Calling all otakus! Our next meeting of the Anime Club is just around the corner! Watch anime while snacking on Hi-Chews and Pocky\, share your hot takes about your favorite manga\, and stretch your crafty muscles at the Creative Corner.\nMore info: https://carolinecounty.librarycalendar.com/event/anime-club-2739\nActiveBury: https://www.activebury.com/events/1802
URL:https://www.activebury.com/events/1802
END:VEVENT
END:VCALENDAR
