BEGIN:VCALENDAR
VERSION:2.0
PRODID:-//ActiveBury//Events//EN
CALSCALE:GREGORIAN
BEGIN:VEVENT
UID:event-1801@activebury.com
DTSTAMP:20260425T133329Z
SUMMARY:Winter/Spring Storytime
DTSTART:20260415T113000
DTEND:20260415T120000
LOCATION:Central Branch Denton
DESCRIPTION:Join us for a half-hour of fun songs\, stories\, and fingerplays that encourage the development of early literacy skills.\nMore info: https://carolinecounty.librarycalendar.com/event/winterspring-storytime-2078\nActiveBury: https://www.activebury.com/events/1801
URL:https://www.activebury.com/events/1801
END:VEVENT
END:VCALENDAR
