BEGIN:VCALENDAR
VERSION:2.0
PRODID:-//ActiveBury//Events//EN
CALSCALE:GREGORIAN
BEGIN:VEVENT
UID:event-1799@activebury.com
DTSTAMP:20260425T133420Z
SUMMARY:Mindful Yoga
DTSTART:20260415T103000
DTEND:20260415T113000
LOCATION:Federalsburg Branch
DESCRIPTION:Join us for Mindful Yoga\, a supportive practice that blends gentle yoga\, range-of-motion movements\, meditation\, and mindfulness to enhance overall well-being.\nMore info: https://carolinecounty.librarycalendar.com/event/mindful-yoga-1973\nActiveBury: https://www.activebury.com/events/1799
URL:https://www.activebury.com/events/1799
END:VEVENT
END:VCALENDAR
