BEGIN:VCALENDAR
VERSION:2.0
PRODID:-//ActiveBury//Events//EN
CALSCALE:GREGORIAN
BEGIN:VEVENT
UID:event-1796@activebury.com
DTSTAMP:20260425T133943Z
SUMMARY:CaroCraft: Underwater Adventure (NCB)
DTSTART;VALUE=DATE:20260413
DTEND;VALUE=DATE:20260414
LOCATION:North County Branch Greensboro
DESCRIPTION:Take and make kits are put out on the second Monday of each month. For the month of April\, bring your own plastic water bottle and create your own squid-like creatures with the supplies provided within this take and make kit!\nMore info: https://carolinecounty.librarycalendar.com/event/carocraft-underwater-adventure-2745\nActiveBury: https://www.activebury.com/events/1796
URL:https://www.activebury.com/events/1796
END:VEVENT
END:VCALENDAR
