BEGIN:VCALENDAR
VERSION:2.0
PRODID:-//ActiveBury//Events//EN
CALSCALE:GREGORIAN
BEGIN:VEVENT
UID:event-1793@activebury.com
DTSTAMP:20260425T134000Z
SUMMARY:Tween Zone: Plants and Poems
DTSTART:20260409T173000
DTEND:20260409T190000
LOCATION:Central Branch Denton
DESCRIPTION:Spring is in full swing\, AND it's National Poetry Month! Join us as we bring the two together at April's Tween Zone meeting.\nMore info: https://carolinecounty.librarycalendar.com/event/tween-zone-2740\nActiveBury: https://www.activebury.com/events/1793
URL:https://www.activebury.com/events/1793
END:VEVENT
END:VCALENDAR
