BEGIN:VCALENDAR
VERSION:2.0
PRODID:-//ActiveBury//Events//EN
CALSCALE:GREGORIAN
BEGIN:VEVENT
UID:event-1789@activebury.com
DTSTAMP:20260425T133323Z
SUMMARY:Tech Tuesdays
DTSTART:20260407T140000
DTEND:20260407T160000
LOCATION:Central Branch Denton
DESCRIPTION:Need Help with Technology?\nMore info: https://carolinecounty.librarycalendar.com/event/tech-tuesdays-2715\nActiveBury: https://www.activebury.com/events/1789
URL:https://www.activebury.com/events/1789
END:VEVENT
END:VCALENDAR
