BEGIN:VCALENDAR
VERSION:2.0
PRODID:-//ActiveBury//Events//EN
CALSCALE:GREGORIAN
BEGIN:VEVENT
UID:event-1788@activebury.com
DTSTAMP:20260425T133434Z
SUMMARY:Winter/Spring Storytime
DTSTART:20260407T103000
DTEND:20260407T113000
LOCATION:North County Branch Greensboro
DESCRIPTION:Join us for a half-hour of fun songs\, stories\, and fingerplays that encourage the development of early literacy skills.\nMore info: https://carolinecounty.librarycalendar.com/event/winter-storytime-2027\nActiveBury: https://www.activebury.com/events/1788
URL:https://www.activebury.com/events/1788
END:VEVENT
END:VCALENDAR
