BEGIN:VCALENDAR
VERSION:2.0
PRODID:-//ActiveBury//Events//EN
CALSCALE:GREGORIAN
BEGIN:VEVENT
UID:event-1785@activebury.com
DTSTAMP:20260425T133323Z
SUMMARY:CCPL 3D printer certification
DTSTART:20260402T183000
DTEND:20260402T193000
LOCATION:Central Branch Denton
DESCRIPTION:Did you know you can use 3D printers at the library? Come learn how at our 3D printer certification! This program is for ages 15 and up. Age restrictions will be strictly enforced.\nMore info: https://carolinecounty.librarycalendar.com/event/ccpl-3d-printer-certification-2741\nActiveBury: https://www.activebury.com/events/1785
URL:https://www.activebury.com/events/1785
END:VEVENT
END:VCALENDAR
