BEGIN:VCALENDAR
VERSION:2.0
PRODID:-//ActiveBury//Events//EN
CALSCALE:GREGORIAN
BEGIN:VEVENT
UID:event-1784@activebury.com
DTSTAMP:20260425T134531Z
SUMMARY:Houdini's Final Trick: An Escape Room Adventure!
DTSTART:20260402T140000
DTEND:20260402T170000
LOCATION:Central Branch Denton
DESCRIPTION:Harry Houdini\, the greatest escape artist\, has announced he will perform one final escape before retiring\, and has invited you!\nMore info: https://carolinecounty.librarycalendar.com/event/youth-escape-room-2927\nActiveBury: https://www.activebury.com/events/1784
URL:https://www.activebury.com/events/1784
END:VEVENT
END:VCALENDAR
