BEGIN:VCALENDAR
VERSION:2.0
PRODID:-//ActiveBury//Events//EN
CALSCALE:GREGORIAN
BEGIN:VEVENT
UID:event-1782@activebury.com
DTSTAMP:20260425T133426Z
SUMMARY:Winter/Spring Storytime
DTSTART:20260401T113000
DTEND:20260401T120000
LOCATION:Central Branch Denton
DESCRIPTION:Join us for a half-hour of fun songs\, stories\, and fingerplays that encourage the development of early literacy skills.\nMore info: https://carolinecounty.librarycalendar.com/event/winterspring-storytime-2076\nActiveBury: https://www.activebury.com/events/1782
URL:https://www.activebury.com/events/1782
END:VEVENT
END:VCALENDAR
