BEGIN:VCALENDAR
VERSION:2.0
PRODID:-//ActiveBury//Events//EN
CALSCALE:GREGORIAN
BEGIN:VEVENT
UID:event-1780@activebury.com
DTSTAMP:20260425T133414Z
SUMMARY:Pasta Workshop
DTSTART:20260426T130000
DTEND:20260426T150000
LOCATION:Bordeleau Vineyard & Winery\, 3155 Noble Farm Road\, Eden\, MD 21822
DESCRIPTION:Enjoy live music with Tin Pan Alley at Bordeleau Vineyard & Winery.\nMore info: https://www.bordeleauwine.com/events\nActiveBury: https://www.activebury.com/events/1780
URL:https://www.activebury.com/events/1780
END:VEVENT
END:VCALENDAR
