BEGIN:VCALENDAR
VERSION:2.0
PRODID:-//ActiveBury//Events//EN
CALSCALE:GREGORIAN
BEGIN:VEVENT
UID:event-1779@activebury.com
DTSTAMP:20260425T133945Z
SUMMARY:Spring Floral Centerpiece Workshop
DTSTART:20260401T180000
DTEND:20260401T200000
LOCATION:Bordeleau Vineyard & Winery\, 3155 Noble Farm Road\, Eden\, MD 21822
DESCRIPTION:More info: https://www.bordeleauwine.com/events\nActiveBury: https://www.activebury.com/events/1779
URL:https://www.activebury.com/events/1779
END:VEVENT
END:VCALENDAR
