BEGIN:VCALENDAR
VERSION:2.0
PRODID:-//ActiveBury//Events//EN
CALSCALE:GREGORIAN
BEGIN:VEVENT
UID:event-1778@activebury.com
DTSTAMP:20260425T152038Z
SUMMARY:S.T.E.A.M.-Flapping Butterfly
DTSTART:20260330T140000
DTEND:20260330T150000
LOCATION:Princess Anne Library\, 11767 Beechwood St\, Princess Anne\, MD 21853\, USA
DESCRIPTION:Educational fun for kids of every age!\n\nToday's STEAM: Flapping Butterfly- Craft a flapping butterfly and observe the release of our butterflies!\nMore info: https://somelibrary.org/\nActiveBury: https://www.activebury.com/events/1778
URL:https://www.activebury.com/events/1778
END:VEVENT
END:VCALENDAR
