BEGIN:VCALENDAR
VERSION:2.0
PRODID:-//ActiveBury//Events//EN
CALSCALE:GREGORIAN
BEGIN:VEVENT
UID:event-1776@activebury.com
DTSTAMP:20260425T133326Z
SUMMARY:Tech help
DTSTART:20260328T140000
DTEND:20260328T160000
DESCRIPTION:More info: https://somelibrary.org/\nActiveBury: https://www.activebury.com/events/1776
URL:https://www.activebury.com/events/1776
END:VEVENT
END:VCALENDAR
