BEGIN:VCALENDAR
VERSION:2.0
PRODID:-//ActiveBury//Events//EN
CALSCALE:GREGORIAN
BEGIN:VEVENT
UID:event-177@activebury.com
DTSTAMP:20260425T133848Z
SUMMARY:XOXO: Love & Literature || The Salisbury Salon Creative Circle
DTSTART:20260207T140000
DTEND:20260207T160000
LOCATION:Centre Branch
DESCRIPTION:This event is in the "Ages 18+" group 2:00pm–4:00pm Ages 18+ Centre Branch This event is in the "Ages 18+" group Feb 7 2026 Sat XOXO: Love & Literature || The Salisbury Salon Creative Circle 2:00pm–4:00pm Centre Branch Please note you are looking at an event that has already happened. Centre Branch The Space at Centre Ages 18+ Book Discussion \, Class or Workshop \, Other Love is in the air at your local library\, that is\, in the form of literature! Gather around at The Space @ Centre Branch for a dreamy afternoon time traveling through romance in literature\, past and present.\nMore info: https://www.wicomicolibrary.org/event/xoxo-love-literature-salisbury-salon-creative-circle-21439\nActiveBury: https://www.activebury.com/events/177
URL:https://www.activebury.com/events/177
END:VEVENT
END:VCALENDAR
