BEGIN:VCALENDAR
VERSION:2.0
PRODID:-//ActiveBury//Events//EN
CALSCALE:GREGORIAN
BEGIN:VEVENT
UID:event-1768@activebury.com
DTSTAMP:20260425T134001Z
SUMMARY:S.T.E.A.M.-Butterfly Sensory Challenge
DTSTART:20260325T140000
DTEND:20260325T150000
LOCATION:Crisfield Library\, 100 Collins St\, Crisfield\, MD 21817\, USA
DESCRIPTION:Educational fun for kids of every age!\n\nToday's STEAM: Butterfly Sensory Challenge- Learn about how butterflies use their senses and try it their way!\nMore info: https://somelibrary.org/\nActiveBury: https://www.activebury.com/events/1768
URL:https://www.activebury.com/events/1768
END:VEVENT
END:VCALENDAR
