BEGIN:VCALENDAR
VERSION:2.0
PRODID:-//ActiveBury//Events//EN
CALSCALE:GREGORIAN
BEGIN:VEVENT
UID:event-1767@activebury.com
DTSTAMP:20260425T133945Z
SUMMARY:Bike Wheel Wreath
DTSTART:20260325T110000
DTEND:20260325T123000
LOCATION:Princess Anne Library\, 11767 Beechwood St\, Princess Anne\, MD 21853\, USA
DESCRIPTION:Use a cute bike wheel wreath frame to create your very own spring wreath! There will be a variety of ribbon colors to choose from. Registration required.\nMore info: https://somelibrary.org/\nActiveBury: https://www.activebury.com/events/1767
URL:https://www.activebury.com/events/1767
END:VEVENT
END:VCALENDAR
