BEGIN:VCALENDAR
VERSION:2.0
PRODID:-//ActiveBury//Events//EN
CALSCALE:GREGORIAN
BEGIN:VEVENT
UID:event-1762@activebury.com
DTSTAMP:20260425T133436Z
SUMMARY:Job Resources: LinkedIn
DTSTART:20260324T110000
DTEND:20260324T120000
DESCRIPTION:<p>Curious about LinkedIn and how itcan help you find a job? Join us to learn how to create a LinkedIn account andhow to use LinkedIn. Registration required.</p>\nMore info: https://somelibrary.org/\nActiveBury: https://www.activebury.com/events/1762
URL:https://www.activebury.com/events/1762
END:VEVENT
END:VCALENDAR
