BEGIN:VCALENDAR
VERSION:2.0
PRODID:-//ActiveBury//Events//EN
CALSCALE:GREGORIAN
BEGIN:VEVENT
UID:event-1761@activebury.com
DTSTAMP:20260425T134004Z
SUMMARY:S.T.E.A.M.-Butterfly Sensory Challenge
DTSTART:20260323T140000
DTEND:20260323T150000
LOCATION:Princess Anne Library\, 11767 Beechwood St\, Princess Anne\, MD 21853\, USA
DESCRIPTION:Educational fun for kids of every age!\n\nToday's STEAM: Butterfly Sensory Challenge- Learn about how butterflies use their senses and try it their way!\nMore info: https://somelibrary.org/\nActiveBury: https://www.activebury.com/events/1761
URL:https://www.activebury.com/events/1761
END:VEVENT
END:VCALENDAR
