BEGIN:VCALENDAR
VERSION:2.0
PRODID:-//ActiveBury//Events//EN
CALSCALE:GREGORIAN
BEGIN:VEVENT
UID:event-1760@activebury.com
DTSTAMP:20260425T133953Z
SUMMARY:Bike Wheel Wreath
DTSTART:20260323T110000
DTEND:20260323T123000
LOCATION:Crisfield Library\, 100 Collins St\, Crisfield\, MD 21817\, USA
DESCRIPTION:Use a cute bike wheel wreath frame to create your very own spring wreath! There will be a variety of ribbon colors to choose from. Registration required.\nMore info: https://somelibrary.org/\nActiveBury: https://www.activebury.com/events/1760
URL:https://www.activebury.com/events/1760
END:VEVENT
END:VCALENDAR
