BEGIN:VCALENDAR
VERSION:2.0
PRODID:-//ActiveBury//Events//EN
CALSCALE:GREGORIAN
BEGIN:VEVENT
UID:event-176@activebury.com
DTSTAMP:20260425T133256Z
SUMMARY:Valentine String Art DIY Craft
DTSTART:20260207T130000
DTEND:20260207T140000
LOCATION:Paul S. Sarbanes Branch
DESCRIPTION:This event is in the "Ages 18+" group 1:00pm–2:00pm Ages 18+ Paul S. Sarbanes Branch Closed Registration Available This event is in the "Ages 18+" group Feb 7 2026 Sat Valentine String Art DIY Craft 1:00pm–2:00pm Paul S. Sarbanes Branch Closed Please note you are looking at an event that has already happened. Paul S. Sarbanes Branch STEAM Studio Ages 18+ Arts and Crafts \, Special Events Registration Available Celebrate the season of love with a hands-on crafting experience at the library! In this Valentine String Art DIY Craft workshop\, you'll create a charming heart-themed design using wooden boards\, nails\, and colorful string.\nMore info: https://www.wicomicolibrary.org/event/valentine-string-art-diy-craft-21662\nActiveBury: https://www.activebury.com/events/176
URL:https://www.activebury.com/events/176
END:VEVENT
END:VCALENDAR
