BEGIN:VCALENDAR
VERSION:2.0
PRODID:-//ActiveBury//Events//EN
CALSCALE:GREGORIAN
BEGIN:VEVENT
UID:event-1758@activebury.com
DTSTAMP:20260425T133448Z
SUMMARY:Tech help
DTSTART:20260321T140000
DTEND:20260321T160000
DESCRIPTION:More info: https://somelibrary.org/\nActiveBury: https://www.activebury.com/events/1758
URL:https://www.activebury.com/events/1758
END:VEVENT
END:VCALENDAR
