BEGIN:VCALENDAR
VERSION:2.0
PRODID:-//ActiveBury//Events//EN
CALSCALE:GREGORIAN
BEGIN:VEVENT
UID:event-1757@activebury.com
DTSTAMP:20260425T133435Z
SUMMARY:Windows 11 Basics
DTSTART:20260321T110000
DTEND:20260321T120000
DESCRIPTION:Join us to learn about and how to navigate Windows 11. Registration required.\nMore info: https://somelibrary.org/\nActiveBury: https://www.activebury.com/events/1757
URL:https://www.activebury.com/events/1757
END:VEVENT
END:VCALENDAR
