BEGIN:VCALENDAR
VERSION:2.0
PRODID:-//ActiveBury//Events//EN
CALSCALE:GREGORIAN
BEGIN:VEVENT
UID:event-1756@activebury.com
DTSTAMP:20260425T134537Z
SUMMARY:Shore Legal Access Heirs Property Info Session
DTSTART:20260321T110000
DTEND:20260321T120000
LOCATION:Princess Anne Library\, 11767 Beechwood St\, Princess Anne\, MD 21853\, USA
DESCRIPTION:More info: https://somelibrary.org/\nActiveBury: https://www.activebury.com/events/1756
URL:https://www.activebury.com/events/1756
END:VEVENT
END:VCALENDAR
