BEGIN:VCALENDAR
VERSION:2.0
PRODID:-//ActiveBury//Events//EN
CALSCALE:GREGORIAN
BEGIN:VEVENT
UID:event-1752@activebury.com
DTSTAMP:20260425T133419Z
SUMMARY:Gaming
DTSTART:20260318T160000
DTEND:20260318T180000
LOCATION:Princess Anne Library
DESCRIPTION:Get your game on with the Switch\, Xbox\, laptops\, tabletop games and more! Drop-in sessions are also available for Xbox\, please see the front desk. 4:00-6:00pm\nMore info: https://somelibrary.org/\nActiveBury: https://www.activebury.com/events/1752
URL:https://www.activebury.com/events/1752
END:VEVENT
END:VCALENDAR
