BEGIN:VCALENDAR
VERSION:2.0
PRODID:-//ActiveBury//Events//EN
CALSCALE:GREGORIAN
BEGIN:VEVENT
UID:event-1751@activebury.com
DTSTAMP:20260425T134002Z
SUMMARY:S.T.E.A.M.-Butterfly Life Cycle
DTSTART:20260318T140000
DTEND:20260318T150000
LOCATION:Crisfield Library\, 100 Collins St\, Crisfield\, MD 21817\, USA
DESCRIPTION:Educational fun for kids of every age!\n\nToday's STEAM: Butterfly Life Cycle- Use different noodle shapes to learn about the life cycle of butterflies! Observe this life cycle happen over the next few weeks in our butterfly garden!\nMore info: https://somelibrary.org/\nActiveBury: https://www.activebury.com/events/1751
URL:https://www.activebury.com/events/1751
END:VEVENT
END:VCALENDAR
