BEGIN:VCALENDAR
VERSION:2.0
PRODID:-//ActiveBury//Events//EN
CALSCALE:GREGORIAN
BEGIN:VEVENT
UID:event-175@activebury.com
DTSTAMP:20260425T133746Z
SUMMARY:Senior Social Club
DTSTART:20260206T090000
DTEND:20260206T113000
LOCATION:Mobile Learning Lab
DESCRIPTION:This event is in the "Ages 18+" group 9:00am–11:30am Ages 18+ Mobile Learning Lab Offsite Event This event is in the "Ages 18+" group Feb 6 2026 Fri Senior Social Club 9:00am–11:30am Mobile Learning Lab Please note you are looking at an event that has already happened. Mobile Learning Lab Ages 18+ Other The Senior Social Club is a welcoming space for older adults to connect\, relax\, and enjoy their time together. We will be providing some beverages\, light snacks\, and games to encourage fun and friendship. Come socialize\, share stories\,\nMore info: https://www.wicomicolibrary.org/event/senior-social-club-20835\nActiveBury: https://www.activebury.com/events/175
URL:https://www.activebury.com/events/175
END:VEVENT
END:VCALENDAR
