BEGIN:VCALENDAR
VERSION:2.0
PRODID:-//ActiveBury//Events//EN
CALSCALE:GREGORIAN
BEGIN:VEVENT
UID:event-1749@activebury.com
DTSTAMP:20260425T133741Z
SUMMARY:Mother Goose on the Loose
DTSTART:20260318T103000
DTEND:20260318T111500
LOCATION:Crisfield Library\, 100 Collins St\, Crisfield\, MD 21817\, USA
DESCRIPTION:Early literacy for toddlers! \n\nMother Goose on the Loose uses songs\, rhymes\, and stories to help your child develop early literacy skills. \n\nFor children and caregivers from birth to 3.\nMore info: https://somelibrary.org/\nActiveBury: https://www.activebury.com/events/1749
URL:https://www.activebury.com/events/1749
END:VEVENT
END:VCALENDAR
