BEGIN:VCALENDAR
VERSION:2.0
PRODID:-//ActiveBury//Events//EN
CALSCALE:GREGORIAN
BEGIN:VEVENT
UID:event-1747@activebury.com
DTSTAMP:20260425T133946Z
SUMMARY:Heroes\, Heroines and Hangouts: Fantasy Book Club
DTSTART:20260317T173000
DTEND:20260317T183000
LOCATION:Princess Anne Library\, 11767 Beechwood St\, Princess Anne\, MD 21853\, USA
DESCRIPTION:Do you like all things magical and mystical? Heroes\, Heroines and Hangouts is a book club for Fantasy lovers! Join us monthly as we read our way through magical realms\; fighting alongside our heroes as we join them on fantastical adventures.\nMore info: https://somelibrary.org/\nActiveBury: https://www.activebury.com/events/1747
URL:https://www.activebury.com/events/1747
END:VEVENT
END:VCALENDAR
