BEGIN:VCALENDAR
VERSION:2.0
PRODID:-//ActiveBury//Events//EN
CALSCALE:GREGORIAN
BEGIN:VEVENT
UID:event-1745@activebury.com
DTSTAMP:20260425T214538Z
SUMMARY:Job Resources: Job Interview Skills
DTSTART:20260317T110000
DTEND:20260317T120000
DESCRIPTION:<p>Have a job interview scheduled?Join us to learn about job interview skills. Registration required.</p>\nMore info: https://somelibrary.org/\nActiveBury: https://www.activebury.com/events/1745
URL:https://www.activebury.com/events/1745
END:VEVENT
END:VCALENDAR
