BEGIN:VCALENDAR
VERSION:2.0
PRODID:-//ActiveBury//Events//EN
CALSCALE:GREGORIAN
BEGIN:VEVENT
UID:event-1744@activebury.com
DTSTAMP:20260425T133907Z
SUMMARY:S.T.E.A.M.-Butterfly Life Cycle
DTSTART:20260316T140000
DTEND:20260316T150000
LOCATION:Princess Anne Library\, 11767 Beechwood St\, Princess Anne\, MD 21853\, USA
DESCRIPTION:Educational fun for kids of every age!\n\nToday's STEAM: Butterfly Life Cycle- Use different noodle shapes to learn about the life cycle of butterflies! Observe this life cycle happen over the next few weeks in our butterfly garden!\nMore info: https://somelibrary.org/\nActiveBury: https://www.activebury.com/events/1744
URL:https://www.activebury.com/events/1744
END:VEVENT
END:VCALENDAR
