BEGIN:VCALENDAR
VERSION:2.0
PRODID:-//ActiveBury//Events//EN
CALSCALE:GREGORIAN
BEGIN:VEVENT
UID:event-1742@activebury.com
DTSTAMP:20260425T152946Z
SUMMARY:Tech help
DTSTART:20260314T140000
DTEND:20260314T160000
DESCRIPTION:More info: https://somelibrary.org/\nActiveBury: https://www.activebury.com/events/1742
URL:https://www.activebury.com/events/1742
END:VEVENT
END:VCALENDAR
