BEGIN:VCALENDAR
VERSION:2.0
PRODID:-//ActiveBury//Events//EN
CALSCALE:GREGORIAN
BEGIN:VEVENT
UID:event-1741@activebury.com
DTSTAMP:20260425T134419Z
SUMMARY:Lego Club-Build a shamrock
DTSTART:20260314T140000
DTEND:20260314T160000
LOCATION:Princess Anne Library\, 11767 Beechwood St\, Princess Anne\, MD 21853\, USA
DESCRIPTION:Come out and complete our Lego challenges!\n\nTodays challenge: Build a shamrock\nMore info: https://somelibrary.org/\nActiveBury: https://www.activebury.com/events/1741
URL:https://www.activebury.com/events/1741
END:VEVENT
END:VCALENDAR
