BEGIN:VCALENDAR
VERSION:2.0
PRODID:-//ActiveBury//Events//EN
CALSCALE:GREGORIAN
BEGIN:VEVENT
UID:event-1740@activebury.com
DTSTAMP:20260425T134521Z
SUMMARY:Lego Club- Build a shamrock
DTSTART:20260314T140000
DTEND:20260314T160000
LOCATION:Crisfield Library\, 100 Collins St\, Crisfield\, MD 21817\, USA
DESCRIPTION:Come out and complete our Lego challenges!\n\nTodays challenge: Build a shamrock\nMore info: https://somelibrary.org/\nActiveBury: https://www.activebury.com/events/1740
URL:https://www.activebury.com/events/1740
END:VEVENT
END:VCALENDAR
