BEGIN:VCALENDAR
VERSION:2.0
PRODID:-//ActiveBury//Events//EN
CALSCALE:GREGORIAN
BEGIN:VEVENT
UID:event-174@activebury.com
DTSTAMP:20260425T133257Z
SUMMARY:Tabletop Game Club
DTSTART:20260205T153000
DTEND:20260205T173000
LOCATION:Mobile Learning Lab
DESCRIPTION:This event is in the "Ages 12-18" group 3:30pm–5:30pm Ages 12-18 Mobile Learning Lab Offsite Event This event is in the "Ages 12-18" group Feb 5 2026 Thu Tabletop Game Club 3:30pm–5:30pm Mobile Learning Lab Please note you are looking at an event that has already happened. Mobile Learning Lab Ages 12-18 Games Do you need a break from technology? Do you like Scrabble\, Uno\, etc.? Come join us in playing tabletop games with your friends. We will be parked at Parkside High\, but all middle and high schoolers are welcome!\nMore info: https://www.wicomicolibrary.org/event/tabletop-game-club-20845\nActiveBury: https://www.activebury.com/events/174
URL:https://www.activebury.com/events/174
END:VEVENT
END:VCALENDAR
