BEGIN:VCALENDAR
VERSION:2.0
PRODID:-//ActiveBury//Events//EN
CALSCALE:GREGORIAN
BEGIN:VEVENT
UID:event-1737@activebury.com
DTSTAMP:20260425T133942Z
SUMMARY:Job Resources: Interview Skills
DTSTART:20260314T110000
DTEND:20260314T120000
DESCRIPTION:<p>Have a job interview scheduled?Join us to learn about job interview skills. Registration required.</p>\nMore info: https://somelibrary.org/\nActiveBury: https://www.activebury.com/events/1737
URL:https://www.activebury.com/events/1737
END:VEVENT
END:VCALENDAR
