BEGIN:VCALENDAR
VERSION:2.0
PRODID:-//ActiveBury//Events//EN
CALSCALE:GREGORIAN
BEGIN:VEVENT
UID:event-1732@activebury.com
DTSTAMP:20260425T133948Z
SUMMARY:S.T.E.A.M.-Grow a Rainbow
DTSTART:20260311T140000
DTEND:20260311T150000
LOCATION:Crisfield Library\, 100 Collins St\, Crisfield\, MD 21817\, USA
DESCRIPTION:Educational fun for kids of every age!\n\nToday's STEAM: Grow a Rainbow- Learn about capillary action and watch a rainbow of colors form in front of your eyes.\nMore info: https://somelibrary.org/\nActiveBury: https://www.activebury.com/events/1732
URL:https://www.activebury.com/events/1732
END:VEVENT
END:VCALENDAR
