BEGIN:VCALENDAR
VERSION:2.0
PRODID:-//ActiveBury//Events//EN
CALSCALE:GREGORIAN
BEGIN:VEVENT
UID:event-1728@activebury.com
DTSTAMP:20260425T133901Z
SUMMARY:Job Resources: Job Search Resources
DTSTART:20260310T110000
DTEND:20260310T120000
DESCRIPTION:<p>Need help finding job resources?Join us as we learn about the free job resources that are available.Registration required.</p>\nMore info: https://somelibrary.org/\nActiveBury: https://www.activebury.com/events/1728
URL:https://www.activebury.com/events/1728
END:VEVENT
END:VCALENDAR
