BEGIN:VCALENDAR
VERSION:2.0
PRODID:-//ActiveBury//Events//EN
CALSCALE:GREGORIAN
BEGIN:VEVENT
UID:event-1722@activebury.com
DTSTAMP:20260425T133417Z
SUMMARY:Open Gym
DTSTART:20260307T120000
DTEND:20260307T160000
LOCATION:Princess Anne Library\, 11767 Beechwood St\, Princess Anne\, MD 21853\, USA
DESCRIPTION:Get your fitness on at the library! Stop in and use equipment such as\; agility training ladders\, exercise bikes\, foam rollers\,  jump ropes\, neoprene dumbbells\, walking pads\, yoga mats &amp\; more. Stop in for a few minutes or a few hours. Equipment will be available from 10:00AM-4:00PM.\nMore info: https://somelibrary.org/\nActiveBury: https://www.activebury.com/events/1722
URL:https://www.activebury.com/events/1722
END:VEVENT
END:VCALENDAR
