BEGIN:VCALENDAR
VERSION:2.0
PRODID:-//ActiveBury//Events//EN
CALSCALE:GREGORIAN
BEGIN:VEVENT
UID:event-1713@activebury.com
DTSTAMP:20260425T133252Z
SUMMARY:March Madness Mac & Cheese
DTSTART:20260304T160000
DTEND:20260304T173000
LOCATION:Princess Anne Library\, 11767 Beechwood St\, Princess Anne\, MD 21853\, USA
DESCRIPTION:Teens\, come and enjoy some mac &amp\; cheese with a choice of toppings and stay to play board games.\nMore info: https://somelibrary.org/\nActiveBury: https://www.activebury.com/events/1713
URL:https://www.activebury.com/events/1713
END:VEVENT
END:VCALENDAR
