BEGIN:VCALENDAR
VERSION:2.0
PRODID:-//ActiveBury//Events//EN
CALSCALE:GREGORIAN
BEGIN:VEVENT
UID:event-1712@activebury.com
DTSTAMP:20260425T133439Z
SUMMARY:Tech help
DTSTART:20260304T140000
DTEND:20260304T160000
DESCRIPTION:Need help using a computer\, tablet\, or phone? Sign-up for a time slot by calling or stopping by the library.\nMore info: https://somelibrary.org/\nActiveBury: https://www.activebury.com/events/1712
URL:https://www.activebury.com/events/1712
END:VEVENT
END:VCALENDAR
