BEGIN:VCALENDAR
VERSION:2.0
PRODID:-//ActiveBury//Events//EN
CALSCALE:GREGORIAN
BEGIN:VEVENT
UID:event-1711@activebury.com
DTSTAMP:20260425T133434Z
SUMMARY:S.T.E.A.M.-Shamrock Maze
DTSTART:20260304T140000
DTEND:20260304T150000
LOCATION:Crisfield Library\, 100 Collins St\, Crisfield\, MD 21817\, USA
DESCRIPTION:Educational fun for kids of every age!\n\nToday's STEAM: Shamrock Maze- Create a maze using recycled materials\, then navigate a Sphero Bolt through it using coding!\nMore info: https://somelibrary.org/\nActiveBury: https://www.activebury.com/events/1711
URL:https://www.activebury.com/events/1711
END:VEVENT
END:VCALENDAR
