BEGIN:VCALENDAR
VERSION:2.0
PRODID:-//ActiveBury//Events//EN
CALSCALE:GREGORIAN
BEGIN:VEVENT
UID:event-1710@activebury.com
DTSTAMP:20260425T133953Z
SUMMARY:Light Up Pot of Gold
DTSTART:20260304T110000
DTEND:20260304T123000
LOCATION:Princess Anne Library\, 11767 Beechwood St\, Princess Anne\, MD 21853\, USA
DESCRIPTION:Join us in making your own lucky pot of gold! We will use mini plastic pots\, fairy lights\, and a variety of fun embellishments to create this fun March decor.  Registration required.\nMore info: https://somelibrary.org/\nActiveBury: https://www.activebury.com/events/1710
URL:https://www.activebury.com/events/1710
END:VEVENT
END:VCALENDAR
