BEGIN:VCALENDAR
VERSION:2.0
PRODID:-//ActiveBury//Events//EN
CALSCALE:GREGORIAN
BEGIN:VEVENT
UID:event-171@activebury.com
DTSTAMP:20260425T133306Z
SUMMARY:Beaver Run School
DTSTART:20260205T091500
DTEND:20260205T153000
LOCATION:Bookmobile
DESCRIPTION:This event is in the "Everyone" group 9:15am–3:30pm Everyone Bookmobile Offsite Event This event is in the "Everyone" group Feb 5 2026 Thu Beaver Run School 9:15am–3:30pm Bookmobile Please note you are looking at an event that has already happened. Bookmobile Everyone 31481 Old Ocean City Rd.\nMore info: https://www.wicomicolibrary.org/event/beaver-run-school-20120\nActiveBury: https://www.activebury.com/events/171
URL:https://www.activebury.com/events/171
END:VEVENT
END:VCALENDAR
